BEGIN:VCALENDAR
PRODID:-//github.com/rianjs/ical.net//NONSGML ical.net 4.0//EN
VERSION:2.0
BEGIN:VEVENT
DESCRIPTION:Augusztus 19-27. között rendezik meg a Veszprém-Balaton 2023 E
 urópa Kulturális Fővárosa kiemelt ökológiai\, művészeti és edukációs proj
 ektjeként a Balatorium Ökológiai x Kulturális Hetet.
DTEND:20230827T140000Z
DTSTAMP:20260419T134001Z
DTSTART:20230826T080000Z
GEO:46.914129;17.818845
LOCATION:Örvényesi strand\n8242 Örvényes
SEQUENCE:0
SUMMARY:A MOME A BALATORIUM ÖKOLÓGIAI x KULTURÁLIS HÉTVÉGÉN
UID:83c558fc-938f-4977-8001-165703a89c78
END:VEVENT
END:VCALENDAR
