BEGIN:VCALENDAR
PRODID:-//github.com/rianjs/ical.net//NONSGML ical.net 4.0//EN
VERSION:2.0
BEGIN:VEVENT
DESCRIPTION:Nyáry Krisztián és Bősze Ádám közös zenés kalandozása a Himnus
 z körül.
DTEND:20230122T230000Z
DTSTAMP:20260419T230849Z
DTSTART:20230122T160000Z
GEO:47.089361;17.908005
LOCATION:Pannon Egyetem Aula\n8200 Veszprém\, Egyetem utca 10
SEQUENCE:0
SUMMARY:TELTHÁZ! A nagy Himnusz sztori – Jó kedvvel\, bőséggel
UID:9fe5065e-6773-4420-b5d5-d3ddec153b4b
END:VEVENT
END:VCALENDAR
