BEGIN:VCALENDAR
PRODID:-//github.com/rianjs/ical.net//NONSGML ical.net 4.0//EN
VERSION:2.0
BEGIN:VEVENT
DESCRIPTION:Beszélgetés a pénz múltjáról\, jelenéről és jövőjéről Jelasity
  Radovánnal\, az Erste Bank vezérigazgatójával\, Luspay Miklóssal\, az Ma
 gyar Nemzeti Bank igazgatójával és Balásy Zsolttal\, a HOLD Alapkezelő po
 rtfóliókezelőjével. Moderátor: Karafiáth Orsolya író\, költő\, újságíró
DTEND:20231028T163000Z
DTSTAMP:20260421T092304Z
DTSTART:20231028T150000Z
GEO:47.095283;17.905218
LOCATION:FOTON Kávézó\n8200 Veszprém\, Vár utca 17
SEQUENCE:0
SUMMARY:A pénz éli világát? - Madách 200 Gondolat Fesztivál
UID:d3d716ae-cf3c-4702-8852-0fb96b421866
END:VEVENT
END:VCALENDAR
