BEGIN:VCALENDAR
PRODID:-//github.com/rianjs/ical.net//NONSGML ical.net 4.0//EN
VERSION:2.0
BEGIN:VEVENT
DESCRIPTION:Mozogd le a sok ünnepi finomságot a közkedvelt svéd zenekar da
 laira! Az ABBA láz örökké tart!
DTEND:20231229T225900Z
DTSTAMP:20260425T020844Z
DTSTART:20231229T183000Z
GEO:47.086204;17.908669
LOCATION:ActiCity Tánc – és Mozgásművészeti Központ\n8200 Veszprém\, Hóvir
 ág utca 1
SEQUENCE:0
SUMMARY:TELT HÁZ! - ABBA Tribute Show
UID:90706e50-eeab-4d8c-9738-02da258f11d0
END:VEVENT
END:VCALENDAR
