BEGIN:VCALENDAR
PRODID:-//github.com/rianjs/ical.net//NONSGML ical.net 4.0//EN
VERSION:2.0
BEGIN:VEVENT
DESCRIPTION:Az Ádámok és Évák Ünnepe: 10 éve indítottuk el a középiskoláso
 k körében\, a Magyar Kultúra Napja alkalmából. Célunk az\, amiben nagyon 
 hiszünk: színházzal tanítani\, példát mutatni\, közösséget építeni\, élmé
 nyeket szerezni!
DTSTAMP:20260419T230608Z
DTSTART;VALUE=DATE:20230121
GEO:47.091867;17.907041
LOCATION:Veszprémi Petőfi Színház\n8200 Veszprém\, Óvári Ferenc út 2
SEQUENCE:0
SUMMARY:Ádámok és Évák Ünnepe
UID:ccca5483-6b42-43ef-8902-029617079beb
END:VEVENT
END:VCALENDAR
