BEGIN:VCALENDAR
PRODID:-//github.com/rianjs/ical.net//NONSGML ical.net 4.0//EN
VERSION:2.0
BEGIN:VEVENT
DESCRIPTION:Az Adventi hétvégéken különleges ünnepváró programokkal és kéz
 műves foglalkozásokkal  várunk titeket!\n
DTEND:20231202T170000Z
DTSTAMP:20260425T032641Z
DTSTART:20231202T140000Z
GEO:47.106286;17.913886
LOCATION:Kamaraterem\n8200 Veszprém\, Táborállás park 1
SEQUENCE:0
SUMMARY:Advent az Agórában
UID:92f06921-1573-4457-a5c2-a2534dcdf12b
END:VEVENT
END:VCALENDAR
