BEGIN:VCALENDAR
PRODID:-//github.com/rianjs/ical.net//NONSGML ical.net 4.0//EN
VERSION:2.0
BEGIN:VEVENT
DESCRIPTION:Ajándékozz élményt karácsonyra! Az utalvány felhasználható 1 f
 ő részére teljes árú\nbelépőjegyre Az Ember a rács mögött kiállításra onl
 ine és helyszíni jegyvásárlás során.\n
DTEND:20261231T225900Z
DTSTAMP:20260423T121332Z
DTSTART:20251224T120000Z
GEO:47.095139;17.904133
LOCATION:Várbörtön\n8200 Veszprém\, Jókai Mór utca 8
SEQUENCE:0
SUMMARY:Ajándékutalvány vásárlás
UID:dc9abc25-bf39-4593-b334-bd056678e0cb
END:VEVENT
END:VCALENDAR
