BEGIN:VCALENDAR
PRODID:-//github.com/rianjs/ical.net//NONSGML ical.net 4.0//EN
VERSION:2.0
BEGIN:VEVENT
DESCRIPTION:Szauder Dávid AI-művész workshopja\n\nKreáld újra és formáld a
  saját elképzeléseid szerint Az ember tragédiája színeit a Mesterságes In
 telligencia segítségével
DTEND:20231029T150000Z
DTSTAMP:20260421T102722Z
DTSTART:20231029T130000Z
GEO:47.092075;17.909137
LOCATION:Hangvilla - Kamaraterem\n8200 Veszprém\, Brusznyai Árpád utca 2
SEQUENCE:0
SUMMARY:Alkosd újra! - Madách 200 Gondolat Fesztivál
UID:48a2925a-e2dc-4378-b6af-1e6ce920589d
END:VEVENT
END:VCALENDAR
