BEGIN:VCALENDAR
PRODID:-//github.com/rianjs/ical.net//NONSGML ical.net 4.0//EN
VERSION:2.0
BEGIN:VEVENT
DTEND:20240618T180000Z
DTSTAMP:20260419T132129Z
DTSTART:20240618T160000Z
GEO:47.495264;19.073088
LOCATION:ISBN könyv + galéria\n1084 Budapest VIII. kerület\, Víg utca 2
SEQUENCE:0
SUMMARY:Attalai Gábor könyvbemutató
UID:1faf8364-61e1-4c05-b0bf-030cfda6026d
END:VEVENT
END:VCALENDAR
