BEGIN:VCALENDAR
PRODID:-//github.com/rianjs/ical.net//NONSGML ical.net 4.0//EN
VERSION:2.0
BEGIN:VEVENT
DESCRIPTION:A koncerten az angol vokálpolifónia olyan gyöngyszemeit szólal
 tatja  meg a Gemma Énekegyüttes\, amelyeket szerzőik liturgikus használat
 ra szántak.
DTEND:20230528T170000Z
DTSTAMP:20260421T113321Z
DTSTART:20230528T160000Z
GEO:47.251714;17.727971
LOCATION:Szent Mauríciusz Monostor\n8427 Bakonybél\, Szent Gellért tér 1
SEQUENCE:0
SUMMARY:Az angol egyházi zene évszázadai-Gemma Énekegyüttes/Kultháló
UID:a353d635-c45d-4d6e-b7fa-6b10b5ee0398
END:VEVENT
END:VCALENDAR
