BEGIN:VCALENDAR
PRODID:-//github.com/rianjs/ical.net//NONSGML ical.net 4.0//EN
VERSION:2.0
BEGIN:VEVENT
DESCRIPTION:Amerikai feliratos kalandfilm\, akciófilm | Rendező: Francis L
 awrence | Szereplők: Tom Blyth\, Rachel Zegler\, Peter Dinklage | 157 per
 c
DTEND:20231116T205000Z
DTSTAMP:20260421T163617Z
DTSTART:20231116T180000Z
GEO:47.095283;17.905218
LOCATION:FOTON Audiovizuális Centrum\n8200 Veszprém\, Vár utca 17
SEQUENCE:0
SUMMARY:Az éhezők viadala: Énekesmadarak és kígyók balladája – FOTON
UID:739e6a24-21f8-4889-ae80-b339c5ea5a85
END:VEVENT
END:VCALENDAR
