BEGIN:VCALENDAR
PRODID:-//github.com/rianjs/ical.net//NONSGML ical.net 4.0//EN
VERSION:2.0
BEGIN:VEVENT
DESCRIPTION:Az Európa Kulturális Fővárosa évében a Művészetek Háza Veszpré
 m csatlakozik egy remek kezdeményezéshez\, a Sakura Projekthez\, mely nem
 csak egy japán kert létrehozását\, japán cseresznyefák ültetését tűzte ki
  célul Veszprémben\, de a japán kultúra népszerűsítését és megismertetésé
 t egyaránt.
DTEND:20230422T180000Z
DTSTAMP:20260424T162636Z
DTSTART:20230422T150000Z
GEO:47.096107;17.903515
LOCATION:Művészetek Háza Veszprém / Dubniczay-palota\n8200 Veszprém\, Vár 
 utca 29
SEQUENCE:0
SUMMARY:Az élet körforgása kiállításmegnyitó
UID:0371c13f-0cd0-4015-96b7-1071bb5c24de
END:VEVENT
END:VCALENDAR
