BEGIN:VCALENDAR
PRODID:-//github.com/rianjs/ical.net//NONSGML ical.net 4.0//EN
VERSION:2.0
BEGIN:VEVENT
DESCRIPTION:Megújult formában\, egyedi koncepcióval nyit újra a Várbörtön 
 Látogatóközpont állandó kiállítása Ember a rács mögött címmel\, amely egy
 részről bepillantást enged a fogvatartottak legszemélyesebb történeteibe\
 , ugyanakkor bővelkedik interaktív elemekben is.
DTEND;VALUE=DATE:20261230
DTSTAMP:20260423T120832Z
DTSTART;VALUE=DATE:20240401
GEO:47.095139;17.904133
LOCATION:Várbörtön\n8200 Veszprém\, Jókai Mór utca 8
SEQUENCE:0
SUMMARY:AZ EMBER A RÁCS MÖGÖTT BÖRTÖNKIÁLLÍTÁS
UID:4f1b4928-4329-46f8-ab89-a7e16a916ad6
END:VEVENT
END:VCALENDAR
