BEGIN:VCALENDAR
PRODID:-//github.com/rianjs/ical.net//NONSGML ical.net 4.0//EN
VERSION:2.0
BEGIN:VEVENT
DESCRIPTION:Merre tart az emberiség? / Prof. Dr. Dominik Finkelde filozófu
 s\, teológus\, drámaíró\, a Müncheni Filozófiai Intézet professzorának el
 őadása
DTEND:20231025T164500Z
DTSTAMP:20260421T103042Z
DTSTART:20231025T153000Z
GEO:47.086204;17.908669
LOCATION:ActiCity Tánc – és Mozgásművészeti Központ\n8200 Veszprém\, Hóvir
 ág utca 1
SEQUENCE:0
SUMMARY:Az ember: tragédia? - Madách 200 Gondolat Fesztivál
UID:d2cdb470-26ae-4544-890e-b076fa32176e
END:VEVENT
END:VCALENDAR
