BEGIN:VCALENDAR
PRODID:-//github.com/rianjs/ical.net//NONSGML ical.net 4.0//EN
VERSION:2.0
BEGIN:VEVENT
DESCRIPTION:Amerikai vígjáték\, angol nyelven\, magyar felirattal | Rendez
 ő: David Frankel | Szereplők: Meryl Streep\, Anne Hathaway\, Emily Blunt 
 | Fórum Hungary | Teljes árú jegy: 2 550 Ft | Kedvezményes jegy: 2 150 Ft
  (6 éves korig\, diák\, nyugdíjas\; érvényes kedvezményre jogosító igazol
 vány bemutatása esetén)
DTEND:20260501T200500Z
DTSTAMP:20260425T033120Z
DTSTART:20260501T180000Z
GEO:47.095283;17.905218
LOCATION:FOTON Audiovizuális Centrum\n8200 Veszprém\, Vár utca 17
SEQUENCE:0
SUMMARY:Az ördög Pradát visel 2. - FOTON - 05.01.
UID:6dede270-dde0-4fe4-923c-580343c6772e
END:VEVENT
END:VCALENDAR
