BEGIN:VCALENDAR
PRODID:-//github.com/rianjs/ical.net//NONSGML ical.net 4.0//EN
VERSION:2.0
BEGIN:VEVENT
DESCRIPTION:A balatonfüredi Vaszary Galéria kiállítása első alkalommal tek
 inti át Bak Imre 2004 és 2022 között alkotott sorozatait\, bemutatva az é
 letmű alakulását.
DTEND:20230122T163000Z
DTSTAMP:20260419T230823Z
DTSTART:20230122T150000Z
GEO:46.954082;17.891280
LOCATION:Vaszary Galéria\n8230 Balatonfüred\, Honvéd utca 2
SEQUENCE:0
SUMMARY:Bak Imre kiállításmegnyitó a Vaszary Galériában
UID:a8b4f2b3-1a45-4863-b539-4451055b781c
END:VEVENT
END:VCALENDAR
