BEGIN:VCALENDAR
PRODID:-//github.com/rianjs/ical.net//NONSGML ical.net 4.0//EN
VERSION:2.0
BEGIN:VEVENT
DESCRIPTION:Marcel Pérès\, az Ensemble Organum karnagyának interaktív work
 shopja az ó-római zenei hagyományokról.
DTEND:20230529T150000Z
DTSTAMP:20260421T114139Z
DTSTART:20230528T120000Z
GEO:47.250775;17.728421
LOCATION:Bakonybél\, Boldog Gizella Közösségi Ház\n8427 Bakonybél\, Szent 
 Gellért tér 15
SEQUENCE:0
SUMMARY:Bakonybéli Kórusakadémia- Marcel Pérès (FR) / Kultháló
UID:b5f72082-c134-4e68-83f7-5149576e1e5a
END:VEVENT
END:VCALENDAR
