BEGIN:VCALENDAR
PRODID:-//github.com/rianjs/ical.net//NONSGML ical.net 4.0//EN
VERSION:2.0
BEGIN:VEVENT
DESCRIPTION:A Bakony ékkövei projekt zárórendezvénye vezetett túrákkal\, k
 ulturális\, ismeretterjesztő és gasztronómiai programokkal\, kézműves fog
 alkozással.
DTEND:20220925T160000Z
DTSTAMP:20260421T165626Z
DTSTART:20220925T073000Z
GEO:47.276031;17.972779
LOCATION:Művelődési ház\n8422 Bakonynána\, Alkotmány utca 31
SEQUENCE:0
SUMMARY:Bakonyi Kincsestár
UID:c2a933c3-5052-4bd9-b992-024fa0894dd3
END:VEVENT
END:VCALENDAR
