BEGIN:VCALENDAR
PRODID:-//github.com/rianjs/ical.net//NONSGML ical.net 4.0//EN
VERSION:2.0
BEGIN:VEVENT
DESCRIPTION:A Magyar Nemzeti Múzeum Villa Romana Baláca kiállítóhelyén az 
 első nagyszabású rendezvényt BALÁCA ÉLMÉNYPARK NYITÁNY – Hagyományőrző fo
 rgatag címmel rendezik április 15-én\, ahol a magyarországi római kort id
 éző hagyományőrző csapatok által életre kel a közel 2000 éves antik római
  villagazdaság.
DTEND:20230415T220000Z
DTSTAMP:20260421T080908Z
DTSTART:20230415T090000Z
GEO:47.044560;17.887930
LOCATION:MNM Villa Romana Baláca\n8248 Nemesvámos
SEQUENCE:0
SUMMARY:Baláca Élménypark nyitány – Hagyományőrző forgatag
UID:8e55b081-6645-42bb-b890-501b98918874
END:VEVENT
END:VCALENDAR
