BEGIN:VCALENDAR
PRODID:-//github.com/rianjs/ical.net//NONSGML ical.net 4.0//EN
VERSION:2.0
BEGIN:VEVENT
DESCRIPTION:A Balaton nemzeti kincsünk\, legkedveltebb nyaralóhelyünk\, ug
 yanakkor életérzés és a nyári szabadság szimbóluma. Kiállításunkon papírr
 égiségek segítségével mutatjuk be\, hogyan csábították 1930 és 1988 közöt
 t a Balatonhoz a pihenni vágyókat.
DTEND;VALUE=DATE:20230513
DTSTAMP:20260424T053318Z
DTSTART;VALUE=DATE:20230117
GEO:47.096107;17.903515
LOCATION:Magtár\n8200 Veszprém\, Vár u. 29
SEQUENCE:0
SUMMARY:Balaton + Retro - Reklám és Propaganda az Ideális Nyaralás Szolgál
 atában kiállítás
UID:099eb882-abf0-41cf-b45d-99fd40156522
END:VEVENT
END:VCALENDAR
