BEGIN:VCALENDAR
PRODID:-//github.com/rianjs/ical.net//NONSGML ical.net 4.0//EN
VERSION:2.0
BEGIN:VEVENT
DESCRIPTION:Poós Zoltán József Attila-díjas íróval Putz Attila újságíró\, 
 a Budapest Retro Élményközpont munkatársa beszélget\nA kiállítás kurátora
 : Herth Viktória\nMegtekinthető: 2023. 01. 18. – 2023. 03. 05.
DTEND:20230117T230000Z
DTSTAMP:20260423T103237Z
DTSTART:20230117T170000Z
GEO:47.096107;17.903515
LOCATION:Művészetek Háza Veszprém / Dubniczay-palota / Magtár\n8200 Veszpr
 ém\, Vár utca 29
SEQUENCE:0
SUMMARY:Balaton + Retro - Reklám és Propaganda az Ideális Nyaralás Szolgál
 atában kiállításmegnyitó beszélgetés és tárlatvezetés
UID:3152f06b-6190-4816-b16d-edaed58f9745
END:VEVENT
END:VCALENDAR
