BEGIN:VCALENDAR
PRODID:-//github.com/rianjs/ical.net//NONSGML ical.net 4.0//EN
VERSION:2.0
BEGIN:VEVENT
DESCRIPTION:Az ó-római zenei hagyományok értő hallgatását segíti Vikman Pá
 l karnagy bevezető előadása.
DTEND:20230525T170000Z
DTSTAMP:20260421T113804Z
DTSTART:20230525T160000Z
GEO:47.089361;17.908005
LOCATION:Pannon Köztér\n8200 Veszprém\, Egyetem utca 10
SEQUENCE:0
SUMMARY:Beavató előadás az Ensemble Organum  bakonybéli koncertjéhez
UID:f7cc57f1-e561-439a-b98b-94ea386ae44e
END:VEVENT
END:VCALENDAR
