BEGIN:VCALENDAR
PRODID:-//github.com/rianjs/ical.net//NONSGML ical.net 4.0//EN
VERSION:2.0
BEGIN:VEVENT
DESCRIPTION:Az ó-római zenei hagyományok értő hallgatását segíti Vikman Pá
 l karnagy bevezető előadása.
DTEND:20230526T173000Z
DTSTAMP:20260421T114248Z
DTSTART:20230526T163000Z
GEO:47.250775;17.728421
LOCATION:Boldog Gizella Közösségi Ház\n8427 Bakonybél\, Szent Gellért tér 
 15
SEQUENCE:0
SUMMARY:Beavató előadás az Ensemble Organum  koncertjéhez / Kultháló
UID:740c8ba4-4a57-4cb9-a4cd-f982dbbf3e75
END:VEVENT
END:VCALENDAR
