BEGIN:VCALENDAR
PRODID:-//github.com/rianjs/ical.net//NONSGML ical.net 4.0//EN
VERSION:2.0
BEGIN:VEVENT
DESCRIPTION:Az EKF megnyitó hétvégéjén\, a Veszprémi Érsekség Gizella Múze
 uma rendkívüli lehetőséget kínál\, hogy a 2021-2025 között zajló  történe
 lmi beruházás pillanataiba személyesen is betekintést nyerhessünk.
DTEND;VALUE=DATE:20230121
DTSTAMP:20260419T230657Z
DTSTART;VALUE=DATE:20230119
GEO:47.096942;17.902520
LOCATION:Gizella Királyné Múzeum\n8200 Veszprém\, Vár utca 35
SEQUENCE:0
SUMMARY:Betekintés a WIP’23 - WORK IN PROGRESS kiállításba
UID:510087c8-01fe-4f91-8668-993a73ad053c
END:VEVENT
END:VCALENDAR
