BEGIN:VCALENDAR
PRODID:-//github.com/rianjs/ical.net//NONSGML ical.net 4.0//EN
VERSION:2.0
BEGIN:VEVENT
DESCRIPTION:A Billenések című babaszínházi előadásunk ezúttal a legkisebbe
 k látásfejlődésének fázisait ragadja meg – játékosan\, költői és absztrak
 t formában.
DTEND:20260425T084000Z
DTSTAMP:20260419T131803Z
DTSTART:20260425T080000Z
GEO:47.096363;17.905395
LOCATION:Kabóca Bábszínház\n8200 Veszprém\, Deák Ferenc utca 13
SEQUENCE:0
SUMMARY:Billenések - 04.25.
UID:601b7470-c316-40ba-b24b-5f07638f4d37
END:VEVENT
END:VCALENDAR
