BEGIN:VCALENDAR
PRODID:-//github.com/rianjs/ical.net//NONSGML ical.net 4.0//EN
VERSION:2.0
BEGIN:VEVENT
DESCRIPTION:A nagysikerű őszi BORONCLASSIC Fesztivált követően Adventben e
 gy szintén háromnapos komolyzenei ünneppel készülünk a Karácsonyra. A bar
 okk\, romantika és a klasszicizmus legnagyobb zeneszerzőinek különleges m
 űveivel várjuk a zeneszerető közönséget a Boronkai Kastélyba.
DTEND:20231217T220000Z
DTSTAMP:20260421T082947Z
DTSTART:20231215T180000Z
GEO:46.591104;17.446521
LOCATION:Boronka Kastély\n8700 Marcali Boronka\, Gárdonyi utca 38
SEQUENCE:0
SUMMARY:BoronClassic Nemzetközi Komolyzenei Fesztivál ADVENT
UID:d8a9d834-32a3-4a35-a8a8-16fd6554b83a
END:VEVENT
END:VCALENDAR
