BEGIN:VCALENDAR
PRODID:-//github.com/rianjs/ical.net//NONSGML ical.net 4.0//EN
VERSION:2.0
BEGIN:VEVENT
DESCRIPTION:A Budapest Bach Consort egy kiváló fiatal muzsikusokból álló\,
  korabeli és korhű hangszereken játszó zenekar\, melyet Szokos Augustin 2
 009-ben\, akkoriban a magyar zenei élet legfiatalabb\, régizenére special
 izálódott karmestereként alapított.
DTEND:20231202T193000Z
DTSTAMP:20260425T034701Z
DTSTART:20231202T180000Z
GEO:47.096147;17.903504
LOCATION:Szent Mihály Főszékesegyház\n8200 Veszprém\, Vár utca 27
SEQUENCE:0
SUMMARY:Budapest Bach Consort - "Close thine Eyes and sleep secure"
UID:2469a535-16ec-45b3-ae7a-2c388d9056c8
END:VEVENT
END:VCALENDAR
