BEGIN:VCALENDAR
PRODID:-//github.com/rianjs/ical.net//NONSGML ical.net 4.0//EN
VERSION:2.0
BEGIN:VEVENT
DESCRIPTION:gasztronómia\, avagy sör\, csülök\, Kepler
DTEND:20231027T193000Z
DTSTAMP:20260421T105151Z
DTSTART:20231027T180000Z
GEO:47.098569;17.900630
LOCATION:Fricska Étteremlakás\n8200 Veszprém\, Miklós utca 10
SEQUENCE:0
SUMMARY:Cseh ételek és sörök kóstolója - Madách Gondolat Fesztivál
UID:36a65b3f-f30b-4a90-b74d-0d72038eab74
END:VEVENT
END:VCALENDAR
