BEGIN:VCALENDAR
PRODID:-//github.com/rianjs/ical.net//NONSGML ical.net 4.0//EN
VERSION:2.0
BEGIN:VEVENT
DESCRIPTION:Légy részese a CODE legújabb\, minden érzékszervre ható digitá
 lis művészeti utazásának\, amely Csontváry Kosztka Tivadar életét és művé
 szetét formálja át egyedülálló immerzív élménnyé!
DTEND:20260430T160000Z
DTSTAMP:20260423T120958Z
DTSTART:20250627T070000Z
GEO:47.091966;17.904229
LOCATION:Digitális Élményközpont CODE \n8200 Veszprém\, Dózsa György utca 2
SEQUENCE:0
SUMMARY:Csontváry - A fotonok nyelvén
UID:e917654c-46b8-4b89-8941-27738ce6fddd
END:VEVENT
END:VCALENDAR
