BEGIN:VCALENDAR
PRODID:-//github.com/rianjs/ical.net//NONSGML ical.net 4.0//EN
VERSION:2.0
BEGIN:VEVENT
DESCRIPTION:Lemezlovasok pörgetik a lemezeket a Wine&Vinyl-ben a Ragyogj! 
 nyitóesemény keretében!
DTEND:20230122T030000Z
DTSTAMP:20260419T230803Z
DTSTART:20230121T090000Z
GEO:47.092873;17.907352
LOCATION:Wine & Vinyl Bar & Store\n8200 Veszprém\, Szabadság tér 2
SEQUENCE:0
SUMMARY:DJ session a Ragyogj! nyitóeseményen
UID:da17ab8e-1582-407c-9dd9-fb2d430dfff1
END:VEVENT
END:VCALENDAR
