BEGIN:VCALENDAR
PRODID:-//github.com/rianjs/ical.net//NONSGML ical.net 4.0//EN
VERSION:2.0
BEGIN:VEVENT
DESCRIPTION:Az Én és a Közösség viszonya napjainkban: beszélgetés Takács-B
 abicz Lilla pszichológussal\, Baán Izsák bencés szerzetessel és Balla Ger
 gely zenésszel. Moderátor: Szabó B. Eszter
DTEND:20231026T163000Z
DTSTAMP:20260421T092012Z
DTSTART:20231026T150000Z
GEO:47.095283;17.905218
LOCATION:FOTON Audiovizuális Centrum\n8200 Veszprém\, Vár utca 17
SEQUENCE:0
SUMMARY:Egy mindekiért\, mindenki egyért? - Madách Gondolat Fesztivál
UID:bf369cf6-2119-4e8e-827a-50fcda65637f
END:VEVENT
END:VCALENDAR
