BEGIN:VCALENDAR
PRODID:-//github.com/rianjs/ical.net//NONSGML ical.net 4.0//EN
VERSION:2.0
BEGIN:VEVENT
DESCRIPTION:2023. január 22-én – a Magyar Kultúra Napján – a Himnusz 200. 
 születésnapján EGYÜTT SZAVAL VESZPRÉM kezdeményezésünkkel köszöntjük Kölc
 sey művét!
DTSTAMP:20260419T230418Z
DTSTART;VALUE=DATE:20230121
GEO:47.091867;17.907041
LOCATION:Veszprémi Petőfi Színház kertje\n8200 Veszprém\, Óvári Ferenc út 2
SEQUENCE:0
SUMMARY:Együtt szaval Veszprém
UID:f21b98da-ff40-4556-8575-777ede6c84e5
END:VEVENT
END:VCALENDAR
