BEGIN:VCALENDAR
PRODID:-//github.com/rianjs/ical.net//NONSGML ical.net 4.0//EN
VERSION:2.0
BEGIN:VEVENT
DESCRIPTION:Egy színésznő és egy színész. Soha nem álltak még együtt a szí
 npadon. Különböznek. Mégis hasonlóak. A férfi rajongja a nőt. A színész r
 ajongja a színésznőt. Mindketten rajongják a SZÍNHÁZAT. És miről szól az 
 est? Róluk. Eltáncolják\, eléneklik\, eljátsszák az életüket és annak egy
  részét....
DTEND:20240817T203000Z
DTSTAMP:20260421T131713Z
DTSTART:20240817T180000Z
GEO:47.389382;16.538435
LOCATION:Kőszegi Vár\n9730 Kőszeg\, Rajnis utca 9
SEQUENCE:0
SUMMARY:Élet Rapszódia
UID:6126eef0-db84-4898-b1aa-3c3dde2fcd0d
END:VEVENT
END:VCALENDAR
