BEGIN:VCALENDAR
PRODID:-//github.com/rianjs/ical.net//NONSGML ical.net 4.0//EN
VERSION:2.0
BEGIN:VEVENT
DESCRIPTION:Te mit tennél\, ha minden elnémulna körülötted? Az Elrejtett h
 angok meséjében ez megtörténik\, ám egy bátor kislány\, Zamira útra kel\,
  hogy visszahozza a világ elveszett dallamait – a Kárpátok hegyvidéki fur
 ulyáitól az afrikai djembe lüktetésén át a japán kotó titkos üzenetéig.
DTEND;VALUE=DATE:20260429
DTSTAMP:20260423T120528Z
DTSTART;VALUE=DATE:20260106
SEQUENCE:0
SUMMARY:Elrejtett hangok
UID:fb1da716-75a3-4949-a76d-34014e634640
END:VEVENT
END:VCALENDAR
