BEGIN:VCALENDAR
PRODID:-//github.com/rianjs/ical.net//NONSGML ical.net 4.0//EN
VERSION:2.0
BEGIN:VEVENT
DESCRIPTION:EMLÉKKÉPEK Lugossy volt és 8van / Lugossy Edit és Lugossy Lász
 ló kiállításának megnyitója
DTEND:20240125T180000Z
DTSTAMP:20260419T230552Z
DTSTART:20240125T160000Z
GEO:47.095283;17.905218
LOCATION:Csikász Galéria\n8200 Veszprém\, Vár utca 17
SEQUENCE:0
SUMMARY:EMLÉKKÉPEK Lugossy volt és 8van
UID:54309dc0-3ec8-4f6e-b372-0e43fec5438a
END:VEVENT
END:VCALENDAR
