BEGIN:VCALENDAR
PRODID:-//github.com/rianjs/ical.net//NONSGML ical.net 4.0//EN
VERSION:2.0
BEGIN:VEVENT
DESCRIPTION:Az Én és a hangszerem programsorozat során ismert zenészekkel 
 beszélgetünk\, melybe a közönséget is bevonjuk. Itt mindig ér kérdezni! A
 z esteket mindig egy kis élőzenével is megfűszerezzük. \n\nVendégünk: Pél
 y Barna\, Artisjus-díjas és Magyar Arany Érdemkereszttel kitüntetett zené
 sz\, énekes\, gitáros és
DTEND:20230504T173000Z
DTSTAMP:20260420T115332Z
DTSTART:20230504T160000Z
GEO:46.754495;17.352127
LOCATION:Bertha Bulcsu Művelődési Ház és Könyvtár\n8313 Balatongyörök\, Ko
 ssuth Lajos utca 29
SEQUENCE:0
SUMMARY:Én és a hangszerem - zenés beszélgetés / Pajta Program
UID:07a4d7da-6810-432e-8467-5727c7ae70cb
END:VEVENT
END:VCALENDAR
