BEGIN:VCALENDAR
PRODID:-//github.com/rianjs/ical.net//NONSGML ical.net 4.0//EN
VERSION:2.0
BEGIN:VEVENT
DESCRIPTION:Láttál már valaha több száz\, akár ezer embert egyszerre együt
 t énekelni? Tudod milyen érzés lehet egy ilyen előadás bűvöletébe kerülni
 ? Tarts velünk\, és legyél ennek a korántsem mindennapi élménynek a része
 se!
DTEND:20230707T200000Z
DTSTAMP:20260421T095057Z
DTSTART:20230707T180000Z
GEO:47.094820;17.914539
LOCATION:Gyárkert Kultúrpark\n8200 Veszprém\, Jutasi út 3
SEQUENCE:0
SUMMARY:Mahler: Ezrek szimfóniája – VIII. Szimfónia
UID:219ef802-5f18-4ad2-99c4-3df5a3373a8e
END:VEVENT
END:VCALENDAR
