BEGIN:VCALENDAR
PRODID:-//github.com/rianjs/ical.net//NONSGML ical.net 4.0//EN
VERSION:2.0
BEGIN:VEVENT
DESCRIPTION:Építettünk egy koncerttermet\, a leghíresebbhez hasonlót\, aho
 l bemutatkozhatnak a muzikális lurkók: a Mini Carnegie Hall színpadán a V
 eszprém-Bakony-Balaton régió zeneiskoláinak egy-egy tehetséges növendéke 
 ad koncertet!
DTEND:20231110T173000Z
DTSTAMP:20260425T202541Z
DTSTART:20231110T170000Z
GEO:47.093379;17.913227
LOCATION:Mini Carnegie Hall\n8200 Veszprém\, Szent Imre tér
SEQUENCE:0
SUMMARY:Ferenczi Franciska / Mini Carnegie Hall
UID:ce02d1de-8e33-4c79-a301-99fe5a74df84
END:VEVENT
END:VCALENDAR
