BEGIN:VCALENDAR
PRODID:-//github.com/rianjs/ical.net//NONSGML ical.net 4.0//EN
VERSION:2.0
BEGIN:VEVENT
DESCRIPTION:Színdarab egy felvonásban a Madách 200 Gondolat Fesztivál kere
 tében az ActiCity Tánc – és Mozgásművészeti Központban.
DTEND:20231028T184500Z
DTSTAMP:20260421T091939Z
DTSTART:20231028T170000Z
GEO:47.086204;17.908669
LOCATION:ActiCity Tánc – és Mozgásművészeti Központ\n8200 Veszprém\, Hóvir
 ág utca 1
SEQUENCE:0
SUMMARY:Forte Társulat / Borbély Szilárd - Akár akárki
UID:f23aa389-0a74-42b1-a162-1272d16f1e88
END:VEVENT
END:VCALENDAR
