BEGIN:VCALENDAR
PRODID:-//github.com/rianjs/ical.net//NONSGML ical.net 4.0//EN
VERSION:2.0
BEGIN:VEVENT
DESCRIPTION:Golarits Márton koncertje
DTEND:20231029T180000Z
DTSTAMP:20260421T092012Z
DTSTART:20231029T170000Z
GEO:47.098569;17.900630
LOCATION:Fricska Étteremlakás\n8200 Veszprém\, Miklós utca 10
SEQUENCE:0
SUMMARY:Géem koncert - Madách 200 Gondolat Fesztivál
UID:810ef56b-a5b4-409f-bdaf-284a61fbdffa
END:VEVENT
END:VCALENDAR
