BEGIN:VCALENDAR
PRODID:-//github.com/rianjs/ical.net//NONSGML ical.net 4.0//EN
VERSION:2.0
BEGIN:VEVENT
DESCRIPTION:A kortárs nemzetközi üvegművészeti kiállításon George William 
 Bell (USA\, UK)\, Alexander Kirkeby (DK)\, Pattantyús Gergely (HU) és Tel
 egdi Balázs (HU\, DK) legújabb alkotásaiból láthatunk válogatást. A kiáll
 ítás a Dán Királyság Nagykövetségének közreműködésével valósul meg.
DTEND;VALUE=DATE:20230415
DTSTAMP:20260421T083312Z
DTSTART;VALUE=DATE:20230119
GEO:47.096107;17.903515
LOCATION:Művészetek Háza Veszprém Dubniczay-palota\n8200 Veszprém\, Vár ut
 ca 29
SEQUENCE:0
SUMMARY:Glass Focus Csoportos kortárs nemzetközi üvegművészeti kiállítás
UID:cf791507-716f-4581-bbca-aa3e3d944944
END:VEVENT
END:VCALENDAR
