BEGIN:VCALENDAR
PRODID:-//github.com/rianjs/ical.net//NONSGML ical.net 4.0//EN
VERSION:2.0
BEGIN:VEVENT
DESCRIPTION:Ha ma élne\, gimis volna\, amikor az első verse megjelenik\, s
  még nem lenne diplomája\, mikor meghal. Fiatalabb volt\, mint Kurt Cobai
 n vagy Jimi Hendrix. Senki nem értette\, hogy tűnt el a Segesvár melletti
  csatatérről. Azóta keressük\, hogy hol lehet.
DTEND:20230122T193000Z
DTSTAMP:20260419T230629Z
DTSTART:20230122T173000Z
GEO:47.092075;17.909137
LOCATION:Pannon Várszínház\, Hangvilla - Stúdió\n8200 Veszprém\, Brusznyai
  Árpád utca 2
SEQUENCE:0
SUMMARY:Háy János: Én vagyok én
UID:8342d229-adbd-463a-9e33-34039f2d82d8
END:VEVENT
END:VCALENDAR
