BEGIN:VCALENDAR
PRODID:-//github.com/rianjs/ical.net//NONSGML ical.net 4.0//EN
VERSION:2.0
BEGIN:VEVENT
DESCRIPTION:Szeretne jobban elmélyülni a fa megmunkálásának világában? A F
 enyves Malomban bepillanthat az asztalosmesterség kulisszái mögé.\nKezdje
  az alapoktól\, szerezzen gyakorlati tudást\, és utána barkácsoljon ottho
 n is magabiztosabban!
DTEND:20240907T220000Z
DTSTAMP:20260421T082736Z
DTSTART:20240907T080000Z
GEO:47.106262;17.908211
LOCATION:Fenyves Malom\n8200 Veszprém\, Fenyves utca 65
SEQUENCE:0
SUMMARY:Hobbiasztalos minikurzus
UID:fd877608-5f9e-4bf4-982d-eb61943b000a
END:VEVENT
END:VCALENDAR
