BEGIN:VCALENDAR
PRODID:-//github.com/rianjs/ical.net//NONSGML ical.net 4.0//EN
VERSION:2.0
BEGIN:VEVENT
DESCRIPTION:A felvilágosodástól a guillotine-ig. Hol tart a francia forrad
 alom?\nBeszélgetés Nyirkos Tamás polikai filozófussal és Hahner Péter tör
 ténésszel. Moderátor: Pogonyi Szabolcs filozófus\, a CEU professzora
DTEND:20231027T163000Z
DTSTAMP:20260421T104957Z
DTSTART:20231027T150000Z
GEO:47.086204;17.908669
LOCATION:ActiCity Tánc – és Mozgásművészeti Központ\n8200 Veszprém\, Hóvir
 ág utca 1
SEQUENCE:0
SUMMARY:Hol tart a francia forradalom? - Madách Gondolat Fesztivál
UID:df03d22c-4002-4923-a481-04d55400ee66
END:VEVENT
END:VCALENDAR
