BEGIN:VCALENDAR
PRODID:-//github.com/rianjs/ical.net//NONSGML ical.net 4.0//EN
VERSION:2.0
BEGIN:VEVENT
DESCRIPTION:Beszélgetés az álom pszichológiájáról és a mindennapi életben 
 betöltött szerepéről Lubinszki Mária pszichológussal\, Kocsis Krisztián n
 eurobiológussal és Somlai-Fischer Ádám építésszel\, a Prezi alapítójával.
  Moderátor: Szabó B. Eszter\n
DTEND:20231027T183000Z
DTSTAMP:20260421T103545Z
DTSTART:20231027T170000Z
GEO:47.095283;17.905218
LOCATION:FOTON Audiovizuális Centrum\n8200 Veszprém\, Vár utca 17
SEQUENCE:0
SUMMARY:Hol vagyok\, hol vannak álmaim?-Madách 200 Gondolat Fesztivál
UID:db15d29b-78d2-4bed-9092-fba7510c3e0b
END:VEVENT
END:VCALENDAR
