BEGIN:VCALENDAR
PRODID:-//github.com/rianjs/ical.net//NONSGML ical.net 4.0//EN
VERSION:2.0
BEGIN:VEVENT
DESCRIPTION:A Cinematrip olyan utazást ígér\, amely minden érzékszervünkre
  egyszerre hat: a jól ismert Honeybeast dalok szereplői\, akiknek magánya
 ikban\, szerelmeikben\, félelmeikben és örömeikben oly gyakran magunkra i
 smerünk\, most életre kelnek és csodás helyszínekre visznek.
DTEND:20250322T230000Z
DTSTAMP:20260421T082501Z
DTSTART:20250322T180000Z
GEO:47.092075;17.909137
LOCATION:Hangvilla - Nagyterem\n8200 Veszprém\, Brusznyai Árpád utca 2
SEQUENCE:0
SUMMARY:Honeybeast - Cinematrip
UID:0bab9c57-fe7b-4cfa-9132-47ad351cb685
END:VEVENT
END:VCALENDAR
