BEGIN:VCALENDAR
PRODID:-//github.com/rianjs/ical.net//NONSGML ical.net 4.0//EN
VERSION:2.0
BEGIN:VEVENT
DESCRIPTION:Hangolódj rá a Szilveszterre a Hot Jazz Banddel! A zenekar a ’
 20-as\, '30-as\, '40-es évek melódiáinak hiteles tolmácsa\, a háború előt
 ti magyar filmek slágereinek és a jazzkorszak népszerű amerikai szórakozt
 ató-zenéjének eredethű megszólaltatója.
DTEND:20231227T225900Z
DTSTAMP:20260425T023555Z
DTSTART:20231227T183000Z
GEO:47.086204;17.908669
LOCATION:ActiCity Tánc – és Mozgásművészeti Központ\n8200 Veszprém\, Hóvir
 ág utca 1
SEQUENCE:0
SUMMARY:TELT HÁZ! - Hot Jazz Band
UID:926d8605-24b5-4e2e-a908-76fc099fb730
END:VEVENT
END:VCALENDAR
