BEGIN:VCALENDAR
PRODID:-//github.com/rianjs/ical.net//NONSGML ical.net 4.0//EN
VERSION:2.0
BEGIN:VEVENT
DESCRIPTION:A Silk Fluegge osztrák tánctársulat ünnepi estre invitál\, aho
 l az érzékek és a szellem egyszerre töltekeznek.
DTEND:20231220T200000Z
DTSTAMP:20260420T084326Z
DTSTART:20231220T170000Z
GEO:46.971951;17.817961
LOCATION:Casa Christa\n8233 Balatonszőlős
SEQUENCE:0
SUMMARY:InterUrbán: Bad Ischl - Come Together\, Right Now\, Over Me
UID:8d47db9e-6070-4cae-a66e-c63dd1a8f2ae
END:VEVENT
END:VCALENDAR
