BEGIN:VCALENDAR
PRODID:-//github.com/rianjs/ical.net//NONSGML ical.net 4.0//EN
VERSION:2.0
BEGIN:VEVENT
DESCRIPTION:Képzeld el\, hogy a kedvenc kávéházadban felhőtlen boldogságod
  közben csodálatos idő van és te csak mosolyogni tudsz! A litván zenekar 
 pont ezt az életérzést hozza el\, erősíti meg zenéivel!
DTEND:20230122T200000Z
DTSTAMP:20260419T230311Z
DTSTART:20230122T190000Z
GEO:47.092912;17.907966
LOCATION:Papírkutya\n8200 Veszprém\, Szabadság tér 9
SEQUENCE:0
SUMMARY:InterUrbán: Kaunas - CinAmono koncert (LT)
UID:ffce29df-50a0-43da-92d8-5a5af58c4d16
END:VEVENT
END:VCALENDAR
