BEGIN:VCALENDAR
PRODID:-//github.com/rianjs/ical.net//NONSGML ical.net 4.0//EN
VERSION:2.0
BEGIN:VEVENT
DESCRIPTION:Hol rejtőzik egy város történelme? A személyes történetekben\,
  az épületek köveiben\, a kollektív tudat rétegeiben.
DTEND:20230124T210000Z
DTSTAMP:20260419T231003Z
DTSTART:20230124T180000Z
GEO:47.088424;17.907401
LOCATION:Pannon Egyetem E épület\, Kamaraterem\n8200 Veszprém\, Egyetem ut
 ca 3
SEQUENCE:0
SUMMARY:InterUrbán: Kaunas - Filmvetítés és közönségtalálkozó: Klostės (L
 T)
UID:bfdbd4ec-abcb-4d07-86a4-7d7d4274d210
END:VEVENT
END:VCALENDAR
